BEGIN:VCALENDAR
VERSION:2.0
PRODID:-//Community Career Promoter - ECPv6.15.20//NONSGML v1.0//EN
CALSCALE:GREGORIAN
METHOD:PUBLISH
X-ORIGINAL-URL:https://communitycareerpromoter.org
X-WR-CALDESC:Events for Community Career Promoter
REFRESH-INTERVAL;VALUE=DURATION:PT1H
X-Robots-Tag:noindex
X-PUBLISHED-TTL:PT1H
BEGIN:VTIMEZONE
TZID:America/New_York
BEGIN:DAYLIGHT
TZOFFSETFROM:-0500
TZOFFSETTO:-0400
TZNAME:EDT
DTSTART:20190310T070000
END:DAYLIGHT
BEGIN:STANDARD
TZOFFSETFROM:-0400
TZOFFSETTO:-0500
TZNAME:EST
DTSTART:20191103T060000
END:STANDARD
BEGIN:DAYLIGHT
TZOFFSETFROM:-0500
TZOFFSETTO:-0400
TZNAME:EDT
DTSTART:20200308T070000
END:DAYLIGHT
BEGIN:STANDARD
TZOFFSETFROM:-0400
TZOFFSETTO:-0500
TZNAME:EST
DTSTART:20201101T060000
END:STANDARD
BEGIN:DAYLIGHT
TZOFFSETFROM:-0500
TZOFFSETTO:-0400
TZNAME:EDT
DTSTART:20210314T070000
END:DAYLIGHT
BEGIN:STANDARD
TZOFFSETFROM:-0400
TZOFFSETTO:-0500
TZNAME:EST
DTSTART:20211107T060000
END:STANDARD
END:VTIMEZONE
BEGIN:VTIMEZONE
TZID:UTC
BEGIN:STANDARD
TZOFFSETFROM:+0000
TZOFFSETTO:+0000
TZNAME:UTC
DTSTART:20170101T000000
END:STANDARD
END:VTIMEZONE
BEGIN:VEVENT
DTSTART;TZID=America/New_York:20201106T120000
DTEND;TZID=America/New_York:20201106T130000
DTSTAMP:20260423T122831
CREATED:20201105T030912Z
LAST-MODIFIED:20201105T030950Z
UID:821-1604664000-1604667600@communitycareerpromoter.org
SUMMARY:Special Webinar on Becoming a Global Freelancer
DESCRIPTION:Special Webinar on Becoming a Global Freelancer \nThursday\, November 5 @ 7PM EST or \nFriday\, November 6 @ Noon EST \nvia zoom ID: 991-244-4850 \nby Gabe Hamda\, PhD\, SPHR. \nGabe has first hand experience as a freelancer as well as hiring freelancers. The advent of talent economy\, the Internet of Things (IOT) and COVID-19 are accelerating the need for globally available freelancers. Regular employment is increasingly becoming a thing of the past. \nRegardless of your employment status\, global freelancing is worth learning about. Join this special presentation to learn and share your experiences. \nRemember Thursday\, November 5 @ 7PM EST or Friday\, November 6 @ Noon EST via zoom ID: 991-244-4850 Webinar Link https://zoom.us/j/9912444850 Call 301 715 8592 Access: 991 244 4850 \nWe look forward to seeing you and encourage you to invite others who may be interested to join.
URL:https://communitycareerpromoter.org/event/special-webinar-on-becoming-a-global-freelancer-2/
LOCATION:Zoom Meeting
CATEGORIES:Free Event
END:VEVENT
BEGIN:VEVENT
DTSTART;TZID=America/New_York:20201105T190000
DTEND;TZID=America/New_York:20201105T200000
DTSTAMP:20260423T122831
CREATED:20201105T030738Z
LAST-MODIFIED:20201105T030807Z
UID:818-1604602800-1604606400@communitycareerpromoter.org
SUMMARY:Special Webinar on Becoming a Global Freelancer
DESCRIPTION:Special Webinar on Becoming a Global Freelancer \nThursday\, November 5 @ 7PM EST or \nFriday\, November 6 @ Noon EST \nvia zoom ID: 991-244-4850 \nby Gabe Hamda\, PhD\, SPHR. \nGabe has first hand experience as a freelancer as well as hiring freelancers. The advent of talent economy\, the Internet of Things (IOT) and COVID-19 are accelerating the need for globally available freelancers. Regular employment is increasingly becoming a thing of the past. \nRegardless of your employment status\, global freelancing is worth learning about. Join this special presentation to learn and share your experiences. \nRemember Thursday\, November 5 @ 7PM EST or Friday\, November 6 @ Noon EST via zoom ID: 991-244-4850 Webinar Link https://zoom.us/j/9912444850 Call 301 715 8592 Access: 991 244 4850 \nWe look forward to seeing you and encourage you to invite others who may be interested to join.
URL:https://communitycareerpromoter.org/event/special-webinar-on-becoming-a-global-freelancer/
LOCATION:Zoom Meeting
CATEGORIES:Free Event
END:VEVENT
BEGIN:VEVENT
DTSTART;TZID=UTC:20190203T140000
DTEND;TZID=UTC:20190203T230000
DTSTAMP:20260423T122831
CREATED:20190117T220701Z
LAST-MODIFIED:20190118T003214Z
UID:403-1549202400-1549234800@communitycareerpromoter.org
SUMMARY:DMV Super Bowl Community Celebration
DESCRIPTION:Bring together American and Immigrant Families and Communities for fun\, friendship and the common good. Super Bowl is one of the biggest American events. Super Bowl is a symbol of excellence\, championship\, fun\, food and friendship.  \n\n\n\nOur global village is only becoming smaller. As members of the shrinking global village\, Super bowl is a perfect event to mix\, mingle and share the fun with others. \n\n\n\nEvent Theme:  \n\n\n\nAchieving championship as a person\, as a family\, as an organization and as a community.  Each co-hosting organization will have proportional share of opportunities to provide fun & brief motivational presentations to achieve championship success as an individual\, as a family\, as an organization and as a community. \n\n\n\nFun Activities: championship themed games; networking; family friendly fun activities; best movie of the year watching; game watching\, full refreshments throughout the event period\, short motivational presentations\, more fun stuff. Each co-hosting organization will have proportional share of opportunities to present themed fun activities. \n\n\n\nBUY YOUR TICKETS CLICK HERE
URL:https://communitycareerpromoter.org/event/dmv-super-bowl-community-celebration/
LOCATION:Balager Restaurant – 8081 Georgia Ave\,  Silver Spring\, MD 20910\, 8081 Georgia Ave\, Silver Spring\, Maryland\, 20910\, United States
CATEGORIES:Networking
END:VEVENT
BEGIN:VEVENT
DTSTART;TZID=UTC:20180517T110000
DTEND;TZID=UTC:20180517T140000
DTSTAMP:20260423T122831
CREATED:20180515T214122Z
LAST-MODIFIED:20180515T214122Z
UID:308-1526554800-1526565600@communitycareerpromoter.org
SUMMARY:Washington DC Career Fair – Live Recruiting/Hiring Event
DESCRIPTION:Event Information:  Washington DC Career Fair – Live Recruiting/Hiring Event – Free Event \nDate & Time: Thursday\, May 17\, 2018 @ 11AM to 2PM \nLive Recruiting/Hiring Event! \nReady for a new career? National Career Fairs is the industry leader and we are driving employers and future employees together faster than ever before. \nHost/Sponsored: National Career Fairs \nAddress: DoubleTree Crystal City\, 300 Army Navy Drive\, Arlington\, VA 22202 \nEvent Link \nhttps://www.eventbrite.com/e/washington-dc-career-fair-may-17-2018-live-recruitinghiring-event-tickets-38586121127?aff=es2
URL:https://communitycareerpromoter.org/event/washington-dc-career-fair-live-recruiting-hiring-event/
LOCATION:DoubleTree Crystal City\, 300 Army Navy Drive\, Arlington\, VA 22202\, Arlington\, VA\, 22202\, United States
CATEGORIES:Free Event,Job fair
END:VEVENT
BEGIN:VEVENT
DTSTART;TZID=UTC:20180515T130000
DTEND;TZID=UTC:20180515T150000
DTSTAMP:20260423T122831
CREATED:20180515T210932Z
LAST-MODIFIED:20190117T221704Z
UID:305-1526389200-1526396400@communitycareerpromoter.org
SUMMARY:Arlington Employment Center Networking  – Free Event
DESCRIPTION:Event Information: Networking  – Free Event \nDate & Time: Tuesday\, May 15\, 2018 from 1PM to 3PM \n\n\n 	\nLearn how to use your networking skills to successfully obtain your targeted position \n\n 	\nLearn how to use strategic targeted networking techniques to identify and market yourself to hiring officials to get ahead of just passively applying for open positions \n\n\nMust be 16 or older to attend \nHost/Sponsored: Arlington Employment Center \nAddress: Arlington Employment Center\, 2100 Washington Blvd.\, 1st Floor; Arlington\, Virginia 22204 \nEvent Link: \nhttps://aec.arlingtonva.us/events/networking-45/
URL:https://communitycareerpromoter.org/event/arlington-employment-center-networking-free-event/
CATEGORIES:Free Event,Job fair,Networking
END:VEVENT
END:VCALENDAR